BEGIN:VCALENDAR
VERSION:2.0
PRODID:-//Cuchara Chapel - ECPv6.15.20//NONSGML v1.0//EN
CALSCALE:GREGORIAN
METHOD:PUBLISH
X-WR-CALNAME:Cuchara Chapel
X-ORIGINAL-URL:http://www.cucharachapel.org
X-WR-CALDESC:Events for Cuchara Chapel
REFRESH-INTERVAL;VALUE=DURATION:PT1H
X-Robots-Tag:noindex
X-PUBLISHED-TTL:PT1H
BEGIN:VTIMEZONE
TZID:America/Denver
BEGIN:DAYLIGHT
TZOFFSETFROM:-0700
TZOFFSETTO:-0600
TZNAME:MDT
DTSTART:20180311T090000
END:DAYLIGHT
BEGIN:STANDARD
TZOFFSETFROM:-0600
TZOFFSETTO:-0700
TZNAME:MST
DTSTART:20181104T080000
END:STANDARD
BEGIN:DAYLIGHT
TZOFFSETFROM:-0700
TZOFFSETTO:-0600
TZNAME:MDT
DTSTART:20190310T090000
END:DAYLIGHT
BEGIN:STANDARD
TZOFFSETFROM:-0600
TZOFFSETTO:-0700
TZNAME:MST
DTSTART:20191103T080000
END:STANDARD
BEGIN:DAYLIGHT
TZOFFSETFROM:-0700
TZOFFSETTO:-0600
TZNAME:MDT
DTSTART:20200308T090000
END:DAYLIGHT
BEGIN:STANDARD
TZOFFSETFROM:-0600
TZOFFSETTO:-0700
TZNAME:MST
DTSTART:20201101T080000
END:STANDARD
BEGIN:DAYLIGHT
TZOFFSETFROM:-0700
TZOFFSETTO:-0600
TZNAME:MDT
DTSTART:20210314T090000
END:DAYLIGHT
BEGIN:STANDARD
TZOFFSETFROM:-0600
TZOFFSETTO:-0700
TZNAME:MST
DTSTART:20211107T080000
END:STANDARD
BEGIN:DAYLIGHT
TZOFFSETFROM:-0700
TZOFFSETTO:-0600
TZNAME:MDT
DTSTART:20220313T090000
END:DAYLIGHT
BEGIN:STANDARD
TZOFFSETFROM:-0600
TZOFFSETTO:-0700
TZNAME:MST
DTSTART:20221106T080000
END:STANDARD
BEGIN:DAYLIGHT
TZOFFSETFROM:-0700
TZOFFSETTO:-0600
TZNAME:MDT
DTSTART:20230312T090000
END:DAYLIGHT
BEGIN:STANDARD
TZOFFSETFROM:-0600
TZOFFSETTO:-0700
TZNAME:MST
DTSTART:20231105T080000
END:STANDARD
BEGIN:DAYLIGHT
TZOFFSETFROM:-0700
TZOFFSETTO:-0600
TZNAME:MDT
DTSTART:20240310T090000
END:DAYLIGHT
BEGIN:STANDARD
TZOFFSETFROM:-0600
TZOFFSETTO:-0700
TZNAME:MST
DTSTART:20241103T080000
END:STANDARD
BEGIN:DAYLIGHT
TZOFFSETFROM:-0700
TZOFFSETTO:-0600
TZNAME:MDT
DTSTART:20250309T090000
END:DAYLIGHT
BEGIN:STANDARD
TZOFFSETFROM:-0600
TZOFFSETTO:-0700
TZNAME:MST
DTSTART:20251102T080000
END:STANDARD
BEGIN:DAYLIGHT
TZOFFSETFROM:-0700
TZOFFSETTO:-0600
TZNAME:MDT
DTSTART:20260308T090000
END:DAYLIGHT
BEGIN:STANDARD
TZOFFSETFROM:-0600
TZOFFSETTO:-0700
TZNAME:MST
DTSTART:20261101T080000
END:STANDARD
END:VTIMEZONE
BEGIN:VEVENT
DTSTART;TZID=America/Denver:20251224T170000
DTEND;TZID=America/Denver:20251224T190000
DTSTAMP:20260424T191638
CREATED:20251209T210015Z
LAST-MODIFIED:20251209T210015Z
UID:1097-1766595600-1766602800@www.cucharachapel.org
SUMMARY:Christmas Eve Service
DESCRIPTION:
URL:http://www.cucharachapel.org/event/christmas-eve-service-2/
CATEGORIES:Special Event
END:VEVENT
BEGIN:VEVENT
DTSTART;TZID=America/Denver:20250803T110000
DTEND;TZID=America/Denver:20250803T120000
DTSTAMP:20260424T191638
CREATED:20250604T201146Z
LAST-MODIFIED:20250604T201146Z
UID:1063-1754218800-1754222400@www.cucharachapel.org
SUMMARY:Memorial Service
DESCRIPTION:Don Pike
URL:http://www.cucharachapel.org/event/memorial-service-6/
LOCATION:Cuchara Chapel\, Oak Street\, Cuchara\, CO\, 81055\, United States
CATEGORIES:Special Event
END:VEVENT
BEGIN:VEVENT
DTSTART;TZID=America/Denver:20250803T093000
DTEND;TZID=America/Denver:20250803T223000
DTSTAMP:20260424T191638
CREATED:20250603T010217Z
LAST-MODIFIED:20250604T201118Z
UID:1010-1754213400-1754260200@www.cucharachapel.org
SUMMARY:Memorial Service
DESCRIPTION:Don Pike
URL:http://www.cucharachapel.org/event/memorial-service-5/
LOCATION:Cuchara Chapel\, Oak Street\, Cuchara\, CO\, 81055\, United States
CATEGORIES:Special Event,Weekly Sunday Service
END:VEVENT
BEGIN:VEVENT
DTSTART;TZID=America/Denver:20240804T110000
DTEND;TZID=America/Denver:20240804T120000
DTSTAMP:20260424T191638
CREATED:20240319T191630Z
LAST-MODIFIED:20240428T010914Z
UID:909-1722769200-1722772800@www.cucharachapel.org
SUMMARY:Memorial Service
DESCRIPTION:Rev. Matt Gaston  \nUnited Methodist
URL:http://www.cucharachapel.org/event/memorial-service-4/
LOCATION:Cuchara Chapel\, Oak Street\, Cuchara\, CO\, 81055\, United States
CATEGORIES:Special Event,Weekly Sunday Service
END:VEVENT
BEGIN:VEVENT
DTSTART;TZID=America/Denver:20240804T093000
DTEND;TZID=America/Denver:20240804T103000
DTSTAMP:20260424T191638
CREATED:20240319T191559Z
LAST-MODIFIED:20240428T010904Z
UID:907-1722763800-1722767400@www.cucharachapel.org
SUMMARY:Memorial Service
DESCRIPTION:Rev. Matt Gaston  \nUnited Methodist
URL:http://www.cucharachapel.org/event/memorial-service-3/
LOCATION:Cuchara Chapel\, Oak Street\, Cuchara\, CO\, 81055\, United States
CATEGORIES:Special Event,Weekly Sunday Service
END:VEVENT
BEGIN:VEVENT
DTSTART;TZID=America/Denver:20231224T170000
DTEND;TZID=America/Denver:20231224T183000
DTSTAMP:20260424T191638
CREATED:20231128T155405Z
LAST-MODIFIED:20231128T155405Z
UID:880-1703437200-1703442600@www.cucharachapel.org
SUMMARY:Candlelight Christmas Eve Service
DESCRIPTION:The Cuchara Chapel invites you to a Candlelight Christmas Eve Service.\nJoin in with Christmas Carols and special music — all are welcome!\nDon Pike officiating & Peggy Hoobler will lead the music Christmas hymns
URL:http://www.cucharachapel.org/event/candlelight-christmas-eve-service-2/
LOCATION:Cuchara Chapel\, Oak Street\, Cuchara\, CO\, 81055\, United States
CATEGORIES:Special Event
END:VEVENT
BEGIN:VEVENT
DTSTART;TZID=America/Denver:20211224T170000
DTEND;TZID=America/Denver:20211224T190000
DTSTAMP:20260424T191638
CREATED:20211214T140434Z
LAST-MODIFIED:20211214T140434Z
UID:681-1640365200-1640372400@www.cucharachapel.org
SUMMARY:Candlelight Christmas Eve Service
DESCRIPTION:The Cuchara Chapel invites you to a Candlelight Christmas Eve Service. \nJoin in with Christmas Carols and special music — all are welcome! \n  \nPlease bring a canned good!
URL:http://www.cucharachapel.org/event/candlelight-christmas-eve-service/
LOCATION:Cuchara Chapel\, Oak Street\, Cuchara\, CO\, 81055\, United States
CATEGORIES:Special Event
ATTACH;FMTTYPE=image/jpeg:http://www.cucharachapel.org/wp-content/uploads/2021/12/IMG_3057.jpg
END:VEVENT
BEGIN:VEVENT
DTSTART;TZID=America/Denver:20191224T170000
DTEND;TZID=America/Denver:20191224T180000
DTSTAMP:20260424T191638
CREATED:20191201T005447Z
LAST-MODIFIED:20191217T001643Z
UID:309-1577206800-1577210400@www.cucharachapel.org
SUMMARY:Christmas Eve Service
DESCRIPTION:Sermon: “The Light of the World” \nGuest Musician: Peggy Arnold-Hoobler and Sam and Di Sortore \nRev. Eileen Ramsey
URL:http://www.cucharachapel.org/event/christmas-eve-service/
LOCATION:Cuchara Chapel\, Oak Street\, Cuchara\, CO\, 81055\, United States
CATEGORIES:Special Event
END:VEVENT
BEGIN:VEVENT
DTSTART;TZID=America/Denver:20191122T180000
DTEND;TZID=America/Denver:20191122T180000
DTSTAMP:20260424T191638
CREATED:20191026T162534Z
LAST-MODIFIED:20191026T162534Z
UID:297-1574445600-1574445600@www.cucharachapel.org
SUMMARY:Cuchara Valley Christian Community Services Thanksgiving Service
DESCRIPTION:Details coming soon!
URL:http://www.cucharachapel.org/event/cuchara-valley-christian-community-services-thanksgiving-service/
CATEGORIES:Special Event
END:VEVENT
BEGIN:VEVENT
DTSTART;TZID=America/Denver:20190912T120000
DTEND;TZID=America/Denver:20190912T150000
DTSTAMP:20260424T191638
CREATED:20190906T014431Z
LAST-MODIFIED:20190906T014741Z
UID:266-1568289600-1568300400@www.cucharachapel.org
SUMMARY:World Day of Prayer Service
DESCRIPTION:World Day of Prayer Service \nRev. Eileen Ramsey
URL:http://www.cucharachapel.org/event/world-day-of-prayer-service/
LOCATION:Cuchara Chapel\, Oak Street\, Cuchara\, CO\, 81055\, United States
CATEGORIES:Special Event
END:VEVENT
END:VCALENDAR