BEGIN:VCALENDAR
VERSION:2.0
PRODID:-//Cuchara Chapel - ECPv6.15.20//NONSGML v1.0//EN
CALSCALE:GREGORIAN
METHOD:PUBLISH
X-ORIGINAL-URL:http://www.cucharachapel.org
X-WR-CALDESC:Events for Cuchara Chapel
REFRESH-INTERVAL;VALUE=DURATION:PT1H
X-Robots-Tag:noindex
X-PUBLISHED-TTL:PT1H
BEGIN:VTIMEZONE
TZID:America/Denver
BEGIN:DAYLIGHT
TZOFFSETFROM:-0700
TZOFFSETTO:-0600
TZNAME:MDT
DTSTART:20240310T090000
END:DAYLIGHT
BEGIN:STANDARD
TZOFFSETFROM:-0600
TZOFFSETTO:-0700
TZNAME:MST
DTSTART:20241103T080000
END:STANDARD
BEGIN:DAYLIGHT
TZOFFSETFROM:-0700
TZOFFSETTO:-0600
TZNAME:MDT
DTSTART:20250309T090000
END:DAYLIGHT
BEGIN:STANDARD
TZOFFSETFROM:-0600
TZOFFSETTO:-0700
TZNAME:MST
DTSTART:20251102T080000
END:STANDARD
BEGIN:DAYLIGHT
TZOFFSETFROM:-0700
TZOFFSETTO:-0600
TZNAME:MDT
DTSTART:20260308T090000
END:DAYLIGHT
BEGIN:STANDARD
TZOFFSETFROM:-0600
TZOFFSETTO:-0700
TZNAME:MST
DTSTART:20261101T080000
END:STANDARD
BEGIN:DAYLIGHT
TZOFFSETFROM:-0700
TZOFFSETTO:-0600
TZNAME:MDT
DTSTART:20270314T090000
END:DAYLIGHT
BEGIN:STANDARD
TZOFFSETFROM:-0600
TZOFFSETTO:-0700
TZNAME:MST
DTSTART:20271107T080000
END:STANDARD
END:VTIMEZONE
BEGIN:VEVENT
DTSTART;TZID=America/Denver:20251224T170000
DTEND;TZID=America/Denver:20251224T190000
DTSTAMP:20260425T062240
CREATED:20251209T210015Z
LAST-MODIFIED:20251209T210015Z
UID:1097-1766595600-1766602800@www.cucharachapel.org
SUMMARY:Christmas Eve Service
DESCRIPTION:
URL:http://www.cucharachapel.org/event/christmas-eve-service-2/
CATEGORIES:Special Event
END:VEVENT
BEGIN:VEVENT
DTSTART;TZID=America/Denver:20260614T100000
DTEND;TZID=America/Denver:20260614T110000
DTSTAMP:20260425T062240
CREATED:20260217T001018Z
LAST-MODIFIED:20260217T001018Z
UID:1118-1781431200-1781434800@www.cucharachapel.org
SUMMARY:Weekly Worship Service
DESCRIPTION:
URL:http://www.cucharachapel.org/event/weekly-worship-service-71/
CATEGORIES:Weekly Sunday Service
END:VEVENT
BEGIN:VEVENT
DTSTART;TZID=America/Denver:20260621T100000
DTEND;TZID=America/Denver:20260621T110000
DTSTAMP:20260425T062240
CREATED:20260217T001040Z
LAST-MODIFIED:20260217T001040Z
UID:1120-1782036000-1782039600@www.cucharachapel.org
SUMMARY:Weekly Worship Service
DESCRIPTION:
URL:http://www.cucharachapel.org/event/weekly-worship-service-72/
CATEGORIES:Weekly Sunday Service
END:VEVENT
BEGIN:VEVENT
DTSTART;TZID=America/Denver:20260628T100000
DTEND;TZID=America/Denver:20260628T110000
DTSTAMP:20260425T062240
CREATED:20260217T001226Z
LAST-MODIFIED:20260217T001226Z
UID:1124-1782640800-1782644400@www.cucharachapel.org
SUMMARY:Weekly Worship Service
DESCRIPTION:
URL:http://www.cucharachapel.org/event/weekly-worship-service-73/
CATEGORIES:Weekly Sunday Service
END:VEVENT
BEGIN:VEVENT
DTSTART;TZID=America/Denver:20260705T100000
DTEND;TZID=America/Denver:20260705T110000
DTSTAMP:20260425T062240
CREATED:20260217T001254Z
LAST-MODIFIED:20260217T001254Z
UID:1126-1783245600-1783249200@www.cucharachapel.org
SUMMARY:Weekly Worship Service
DESCRIPTION:
URL:http://www.cucharachapel.org/event/weekly-worship-service-74/
CATEGORIES:Weekly Sunday Service
END:VEVENT
BEGIN:VEVENT
DTSTART;TZID=America/Denver:20260712T100000
DTEND;TZID=America/Denver:20260712T110000
DTSTAMP:20260425T062240
CREATED:20260217T001323Z
LAST-MODIFIED:20260217T001323Z
UID:1128-1783850400-1783854000@www.cucharachapel.org
SUMMARY:Weekly Worship Service
DESCRIPTION:
URL:http://www.cucharachapel.org/event/weekly-worship-service-75/
CATEGORIES:Weekly Sunday Service
END:VEVENT
BEGIN:VEVENT
DTSTART;TZID=America/Denver:20260719T100000
DTEND;TZID=America/Denver:20260719T110000
DTSTAMP:20260425T062240
CREATED:20260217T001149Z
LAST-MODIFIED:20260217T001149Z
UID:1122-1784455200-1784458800@www.cucharachapel.org
SUMMARY:Outdoor Chapel Service
DESCRIPTION:Speaker: Morgan Stokes from Austin\, Texas
URL:http://www.cucharachapel.org/event/outdoor-chapel-service/
CATEGORIES:Special Event,Weekly Sunday Service
END:VEVENT
BEGIN:VEVENT
DTSTART;TZID=America/Denver:20260726T100000
DTEND;TZID=America/Denver:20260726T110000
DTSTAMP:20260425T062240
CREATED:20260217T001343Z
LAST-MODIFIED:20260217T001343Z
UID:1130-1785060000-1785063600@www.cucharachapel.org
SUMMARY:Weekly Worship Service
DESCRIPTION:
URL:http://www.cucharachapel.org/event/weekly-worship-service-76/
CATEGORIES:Weekly Sunday Service
END:VEVENT
BEGIN:VEVENT
DTSTART;TZID=America/Denver:20260802T100000
DTEND;TZID=America/Denver:20260802T110000
DTSTAMP:20260425T062240
CREATED:20260217T001409Z
LAST-MODIFIED:20260217T001409Z
UID:1132-1785664800-1785668400@www.cucharachapel.org
SUMMARY:Weekly Worship Service
DESCRIPTION:
URL:http://www.cucharachapel.org/event/weekly-worship-service-77/
CATEGORIES:Weekly Sunday Service
END:VEVENT
BEGIN:VEVENT
DTSTART;TZID=America/Denver:20260809T100000
DTEND;TZID=America/Denver:20260809T110000
DTSTAMP:20260425T062240
CREATED:20260217T001456Z
LAST-MODIFIED:20260217T001456Z
UID:1134-1786269600-1786273200@www.cucharachapel.org
SUMMARY:Weekly Worship Service
DESCRIPTION:
URL:http://www.cucharachapel.org/event/weekly-worship-service-78/
CATEGORIES:Weekly Sunday Service
END:VEVENT
BEGIN:VEVENT
DTSTART;TZID=America/Denver:20260816T100000
DTEND;TZID=America/Denver:20260816T110000
DTSTAMP:20260425T062240
CREATED:20260217T001522Z
LAST-MODIFIED:20260217T001522Z
UID:1136-1786874400-1786878000@www.cucharachapel.org
SUMMARY:Weekly Worship Service
DESCRIPTION:
URL:http://www.cucharachapel.org/event/weekly-worship-service-79/
CATEGORIES:Weekly Sunday Service
END:VEVENT
BEGIN:VEVENT
DTSTART;TZID=America/Denver:20260823T100000
DTEND;TZID=America/Denver:20260823T110000
DTSTAMP:20260425T062240
CREATED:20260217T001544Z
LAST-MODIFIED:20260217T001544Z
UID:1138-1787479200-1787482800@www.cucharachapel.org
SUMMARY:Weekly Worship Service
DESCRIPTION:
URL:http://www.cucharachapel.org/event/weekly-worship-service-80/
CATEGORIES:Weekly Sunday Service
END:VEVENT
END:VCALENDAR