BEGIN:VCALENDAR
VERSION:2.0
PRODID:-//Cuchara Chapel - ECPv6.15.20//NONSGML v1.0//EN
CALSCALE:GREGORIAN
METHOD:PUBLISH
X-ORIGINAL-URL:http://www.cucharachapel.org
X-WR-CALDESC:Events for Cuchara Chapel
REFRESH-INTERVAL;VALUE=DURATION:PT1H
X-Robots-Tag:noindex
X-PUBLISHED-TTL:PT1H
BEGIN:VTIMEZONE
TZID:America/Denver
BEGIN:DAYLIGHT
TZOFFSETFROM:-0700
TZOFFSETTO:-0600
TZNAME:MDT
DTSTART:20240310T090000
END:DAYLIGHT
BEGIN:STANDARD
TZOFFSETFROM:-0600
TZOFFSETTO:-0700
TZNAME:MST
DTSTART:20241103T080000
END:STANDARD
BEGIN:DAYLIGHT
TZOFFSETFROM:-0700
TZOFFSETTO:-0600
TZNAME:MDT
DTSTART:20250309T090000
END:DAYLIGHT
BEGIN:STANDARD
TZOFFSETFROM:-0600
TZOFFSETTO:-0700
TZNAME:MST
DTSTART:20251102T080000
END:STANDARD
BEGIN:DAYLIGHT
TZOFFSETFROM:-0700
TZOFFSETTO:-0600
TZNAME:MDT
DTSTART:20260308T090000
END:DAYLIGHT
BEGIN:STANDARD
TZOFFSETFROM:-0600
TZOFFSETTO:-0700
TZNAME:MST
DTSTART:20261101T080000
END:STANDARD
END:VTIMEZONE
BEGIN:VEVENT
DTSTART;TZID=America/Denver:20250803T093000
DTEND;TZID=America/Denver:20250803T223000
DTSTAMP:20260425T062102
CREATED:20250603T010217Z
LAST-MODIFIED:20250604T201118Z
UID:1010-1754213400-1754260200@www.cucharachapel.org
SUMMARY:Memorial Service
DESCRIPTION:Don Pike
URL:http://www.cucharachapel.org/event/memorial-service-5/
LOCATION:Cuchara Chapel\, Oak Street\, Cuchara\, CO\, 81055\, United States
CATEGORIES:Special Event,Weekly Sunday Service
END:VEVENT
BEGIN:VEVENT
DTSTART;TZID=America/Denver:20250803T110000
DTEND;TZID=America/Denver:20250803T120000
DTSTAMP:20260425T062102
CREATED:20250604T201146Z
LAST-MODIFIED:20250604T201146Z
UID:1063-1754218800-1754222400@www.cucharachapel.org
SUMMARY:Memorial Service
DESCRIPTION:Don Pike
URL:http://www.cucharachapel.org/event/memorial-service-6/
LOCATION:Cuchara Chapel\, Oak Street\, Cuchara\, CO\, 81055\, United States
CATEGORIES:Special Event
END:VEVENT
BEGIN:VEVENT
DTSTART;TZID=America/Denver:20250810T100000
DTEND;TZID=America/Denver:20250810T113000
DTSTAMP:20260425T062102
CREATED:20250603T010120Z
LAST-MODIFIED:20250810T001502Z
UID:1008-1754820000-1754825400@www.cucharachapel.org
SUMMARY:Congregational Meeting
DESCRIPTION:
URL:http://www.cucharachapel.org/event/congregational-meeting-2/
LOCATION:Cuchara Chapel\, Oak Street\, Cuchara\, CO\, 81055\, United States
CATEGORIES:Annual Congregation Meeting and Picnic
END:VEVENT
BEGIN:VEVENT
DTSTART;TZID=America/Denver:20250817T100000
DTEND;TZID=America/Denver:20250817T110000
DTSTAMP:20260425T062102
CREATED:20250603T010925Z
LAST-MODIFIED:20250810T001614Z
UID:1038-1755424800-1755428400@www.cucharachapel.org
SUMMARY:Worship Service
DESCRIPTION:Matt Gaston
URL:http://www.cucharachapel.org/event/contemporary-service-17/
LOCATION:Cuchara Chapel\, Oak Street\, Cuchara\, CO\, 81055\, United States
CATEGORIES:Weekly Sunday Service
END:VEVENT
BEGIN:VEVENT
DTSTART;TZID=America/Denver:20250824T100000
DTEND;TZID=America/Denver:20250824T110000
DTSTAMP:20260425T062102
CREATED:20250603T011007Z
LAST-MODIFIED:20250810T001631Z
UID:1042-1756029600-1756033200@www.cucharachapel.org
SUMMARY:Worship Service
DESCRIPTION:Cammy Gaston
URL:http://www.cucharachapel.org/event/contemporary-service-18/
LOCATION:Cuchara Chapel\, Oak Street\, Cuchara\, CO\, 81055\, United States
CATEGORIES:Weekly Sunday Service
END:VEVENT
END:VCALENDAR